BEGIN:VCALENDAR
VERSION:2.0
PRODID:-//Kisalföldi ASzC Roth Gyula Erdészeti Technikum, Szakképző Iskola és Kollégium - ECPv6.15.20//NONSGML v1.0//EN
CALSCALE:GREGORIAN
METHOD:PUBLISH
X-ORIGINAL-URL:https://new.rothszki.hu
X-WR-CALDESC:Események Kisalföldi ASzC Roth Gyula Erdészeti Technikum, Szakképző Iskola és Kollégium
REFRESH-INTERVAL;VALUE=DURATION:PT1H
X-Robots-Tag:noindex
X-PUBLISHED-TTL:PT1H
BEGIN:VTIMEZONE
TZID:UTC
BEGIN:STANDARD
TZOFFSETFROM:+0000
TZOFFSETTO:+0000
TZNAME:UTC
DTSTART:20180101T000000
END:STANDARD
END:VTIMEZONE
BEGIN:VEVENT
DTSTART;VALUE=DATE:20200220
DTEND;VALUE=DATE:20200221
DTSTAMP:20260424T055109
CREATED:20190911T084642Z
LAST-MODIFIED:20190911T084642Z
UID:5234-1582156800-1582243199@new.rothszki.hu
SUMMARY:Évfolyamdolgozat erdõmûvelés tantárgyból 11.|12. és 13. évfolyamon
DESCRIPTION:
URL:https://new.rothszki.hu/index.php/event/evfolyamdolgozat-erdomuveles-tantargybol-11-12-es-13-evfolyamon-3/
END:VEVENT
BEGIN:VEVENT
DTSTART;VALUE=DATE:20200215
DTEND;VALUE=DATE:20200216
DTSTAMP:20260424T055109
CREATED:20190911T084642Z
LAST-MODIFIED:20190911T084642Z
UID:5233-1581724800-1581811199@new.rothszki.hu
SUMMARY:Felvételi jelentkezési lapok beérkezése (Leendõ 9. évf)
DESCRIPTION:
URL:https://new.rothszki.hu/index.php/event/felveteli-jelentkezesi-lapok-beerkezese-leendo-9-evf-3/
END:VEVENT
BEGIN:VEVENT
DTSTART;VALUE=DATE:20200215
DTEND;VALUE=DATE:20200216
DTSTAMP:20260424T055109
CREATED:20190911T084641Z
LAST-MODIFIED:20190911T084641Z
UID:5232-1581724800-1581811199@new.rothszki.hu
SUMMARY:Jelentkezés végsõ határideje az érettségi| képesítõ vizsgákra| felsõfokú oktatási intézményekbe
DESCRIPTION:
URL:https://new.rothszki.hu/index.php/event/jelentkezes-vegso-hatarideje-az-erettsegi-kepesito-vizsgakra-felsofoku-oktatasi-intezmenyekbe-4/
END:VEVENT
BEGIN:VEVENT
DTSTART;VALUE=DATE:20200207
DTEND;VALUE=DATE:20200208
DTSTAMP:20260424T055109
CREATED:20190911T084640Z
LAST-MODIFIED:20190911T084640Z
UID:5231-1581033600-1581119999@new.rothszki.hu
SUMMARY:Szalagavató| Iskolabál (Rövidített órák!)
DESCRIPTION:
URL:https://new.rothszki.hu/index.php/event/szalagavato-iskolabal-roviditett-orak-3/
END:VEVENT
BEGIN:VEVENT
DTSTART;VALUE=DATE:20200201
DTEND;VALUE=DATE:20200202
DTSTAMP:20260424T055109
CREATED:20190911T084640Z
LAST-MODIFIED:20190911T084640Z
UID:5229-1580515200-1580601599@new.rothszki.hu
SUMMARY:A szülõk értesítése az elsõ félév eredményeirõl
DESCRIPTION:
URL:https://new.rothszki.hu/index.php/event/a-szulok-ertesitese-az-elso-felev-eredmenyeirol-4/
END:VEVENT
BEGIN:VEVENT
DTSTART;VALUE=DATE:20200131
DTEND;VALUE=DATE:20200201
DTSTAMP:20260424T055109
CREATED:20190911T084640Z
LAST-MODIFIED:20190911T084640Z
UID:5230-1580428800-1580515199@new.rothszki.hu
SUMMARY:Rövidített órák! Fogadó órák
DESCRIPTION:
URL:https://new.rothszki.hu/index.php/event/roviditett-orak-fogado-orak-3/
END:VEVENT
BEGIN:VEVENT
DTSTART;VALUE=DATE:20200130
DTEND;VALUE=DATE:20200131
DTSTAMP:20260424T055109
CREATED:20190911T084640Z
LAST-MODIFIED:20190911T084640Z
UID:5228-1580342400-1580428799@new.rothszki.hu
SUMMARY:Nevelõtestületi értekezlet 1500(pedagógiai munka elemzése| értékelése – félévi értékelés)
DESCRIPTION:
URL:https://new.rothszki.hu/index.php/event/nevelotestuleti-ertekezlet-1500pedagogiai-munka-elemzese-ertekelese-felevi-ertekeles-3/
END:VEVENT
BEGIN:VEVENT
DTSTART;VALUE=DATE:20200127
DTEND;VALUE=DATE:20200201
DTSTAMP:20260424T055109
CREATED:20190911T084639Z
LAST-MODIFIED:20190911T084639Z
UID:5227-1580083200-1580515199@new.rothszki.hu
SUMMARY:Félévértékelõ munkaközösségi értekezletek
DESCRIPTION:
URL:https://new.rothszki.hu/index.php/event/felevertekelo-munkakozossegi-ertekezletek-3/
END:VEVENT
BEGIN:VEVENT
DTSTART;VALUE=DATE:20200124
DTEND;VALUE=DATE:20200125
DTSTAMP:20260424T055109
CREATED:20190911T084639Z
LAST-MODIFIED:20190911T084639Z
UID:5226-1579824000-1579910399@new.rothszki.hu
SUMMARY:A félév utolsó tanítási napja
DESCRIPTION:
URL:https://new.rothszki.hu/index.php/event/a-felev-utolso-tanitasi-napja-3/
END:VEVENT
BEGIN:VEVENT
DTSTART;VALUE=DATE:20200123
DTEND;VALUE=DATE:20200124
DTSTAMP:20260424T055109
CREATED:20190911T084639Z
LAST-MODIFIED:20190911T084639Z
UID:5225-1579737600-1579823999@new.rothszki.hu
SUMMARY:Nevelõtestületi értekezlet (osztályozó konferencia) – (Rövidített órák)
DESCRIPTION:
URL:https://new.rothszki.hu/index.php/event/nevelotestuleti-ertekezlet-osztalyozo-konferencia-roviditett-orak-3/
END:VEVENT
BEGIN:VEVENT
DTSTART;VALUE=DATE:20200106
DTEND;VALUE=DATE:20200107
DTSTAMP:20260424T055109
CREATED:20190911T084639Z
LAST-MODIFIED:20190911T084639Z
UID:5224-1578268800-1578355199@new.rothszki.hu
SUMMARY:Írásbeli OSZTV elõdöntõ – faipar
DESCRIPTION:
URL:https://new.rothszki.hu/index.php/event/irasbeli-osztv-elodonto-faipar-3/
END:VEVENT
BEGIN:VEVENT
DTSTART;VALUE=DATE:20191221
DTEND;VALUE=DATE:20200106
DTSTAMP:20260424T055109
CREATED:20190911T084639Z
LAST-MODIFIED:20190911T084639Z
UID:5223-1576886400-1578268799@new.rothszki.hu
SUMMARY:Téli szünet
DESCRIPTION:
URL:https://new.rothszki.hu/index.php/event/teli-szunet-3/
END:VEVENT
BEGIN:VEVENT
DTSTART;VALUE=DATE:20191220
DTEND;VALUE=DATE:20191221
DTSTAMP:20260424T055109
CREATED:20190911T084638Z
LAST-MODIFIED:20190911T084638Z
UID:5222-1576800000-1576886399@new.rothszki.hu
SUMMARY:Rövidített órák!
DESCRIPTION:
URL:https://new.rothszki.hu/index.php/event/roviditett-orak-3/
END:VEVENT
BEGIN:VEVENT
DTSTART;VALUE=DATE:20191216
DTEND;VALUE=DATE:20191217
DTSTAMP:20260424T055109
CREATED:20190911T084638Z
LAST-MODIFIED:20190911T084638Z
UID:5221-1576454400-1576540799@new.rothszki.hu
SUMMARY:Gyûjtemények beadási határideje – 14. esti (mag)
DESCRIPTION:
URL:https://new.rothszki.hu/index.php/event/gyujtemenyek-beadasi-hatarideje-14-esti-mag-3/
END:VEVENT
BEGIN:VEVENT
DTSTART;VALUE=DATE:20191216
DTEND;VALUE=DATE:20191219
DTSTAMP:20260424T055109
CREATED:20190911T084637Z
LAST-MODIFIED:20190911T084637Z
UID:5220-1576454400-1576713599@new.rothszki.hu
SUMMARY:ES.14. OSZTÁLY ÖSSZEFÜGGÕ FAHASZNÁLATI GYAKORLATA
DESCRIPTION:
URL:https://new.rothszki.hu/index.php/event/es-14-osztaly-osszefuggo-fahasznalati-gyakorlata-3/
END:VEVENT
BEGIN:VEVENT
DTSTART;VALUE=DATE:20191213
DTEND;VALUE=DATE:20191214
DTSTAMP:20260424T055109
CREATED:20190911T084637Z
LAST-MODIFIED:20190911T084637Z
UID:5219-1576195200-1576281599@new.rothszki.hu
SUMMARY:Jelentkezési határidõ az OSZTV-re
DESCRIPTION:
URL:https://new.rothszki.hu/index.php/event/jelentkezesi-hatarido-az-osztv-re-3/
END:VEVENT
BEGIN:VEVENT
DTSTART;VALUE=DATE:20191211
DTEND;VALUE=DATE:20191212
DTSTAMP:20260424T055109
CREATED:20190911T084637Z
LAST-MODIFIED:20190911T084637Z
UID:5218-1576022400-1576108799@new.rothszki.hu
SUMMARY:Nyílt nap
DESCRIPTION:
URL:https://new.rothszki.hu/index.php/event/nyilt-nap-8/
END:VEVENT
BEGIN:VEVENT
DTSTART;VALUE=DATE:20191129
DTEND;VALUE=DATE:20191130
DTSTAMP:20260424T055109
CREATED:20190911T084636Z
LAST-MODIFIED:20190911T084636Z
UID:5216-1574985600-1575071999@new.rothszki.hu
SUMMARY:Gyûjtemények beadási határideje – 13. évfolyam (mag)
DESCRIPTION:
URL:https://new.rothszki.hu/index.php/event/gyujtemenyek-beadasi-hatarideje-13-evfolyam-mag-3/
END:VEVENT
BEGIN:VEVENT
DTSTART;VALUE=DATE:20191128
DTEND;VALUE=DATE:20191129
DTSTAMP:20260424T055109
CREATED:20190911T084636Z
LAST-MODIFIED:20190911T084636Z
UID:5215-1574899200-1574985599@new.rothszki.hu
SUMMARY:Nyílt nap
DESCRIPTION:
URL:https://new.rothszki.hu/index.php/event/nyilt-nap-7/
END:VEVENT
BEGIN:VEVENT
DTSTART;VALUE=DATE:20191125
DTEND;VALUE=DATE:20191207
DTSTAMP:20260424T055109
CREATED:20190911T084636Z
LAST-MODIFIED:20190911T084636Z
UID:5213-1574640000-1575676799@new.rothszki.hu
SUMMARY:13.B OSZTÁLY ÖSSZEFÜGGÕ FAHASZNÁLATI GYAKORLATA
DESCRIPTION:
URL:https://new.rothszki.hu/index.php/event/13-b-osztaly-osszefuggo-fahasznalati-gyakorlata-3/
END:VEVENT
BEGIN:VEVENT
DTSTART;VALUE=DATE:20191125
DTEND;VALUE=DATE:20191126
DTSTAMP:20260424T055109
CREATED:20190911T084636Z
LAST-MODIFIED:20190911T084636Z
UID:5214-1574640000-1574726399@new.rothszki.hu
SUMMARY:Pedagógusok minõsítési eljárása: portfólió leadási határideje
DESCRIPTION:
URL:https://new.rothszki.hu/index.php/event/pedagogusok-minositesi-eljarasa-portfolio-leadasi-hatarideje-3/
END:VEVENT
BEGIN:VEVENT
DTSTART;VALUE=DATE:20191122
DTEND;VALUE=DATE:20191123
DTSTAMP:20260424T055109
CREATED:20190911T084635Z
LAST-MODIFIED:20190911T084635Z
UID:5212-1574380800-1574467199@new.rothszki.hu
SUMMARY:Alapkészségek országos méréséhez szükséges alapadatok megküldése az OH-nak
DESCRIPTION:
URL:https://new.rothszki.hu/index.php/event/alapkeszsegek-orszagos-meresehez-szukseges-alapadatok-megkuldese-az-oh-nak-3/
END:VEVENT
BEGIN:VEVENT
DTSTART;VALUE=DATE:20191121
DTEND;VALUE=DATE:20191123
DTSTAMP:20260424T055109
CREATED:20190911T084635Z
LAST-MODIFIED:20190911T084635Z
UID:5211-1574294400-1574467199@new.rothszki.hu
SUMMARY:Magyar Asztalos Tanulmányi Verseny – döntõ| faiparos
DESCRIPTION:
URL:https://new.rothszki.hu/index.php/event/magyar-asztalos-tanulmanyi-verseny-donto-faiparos-3/
END:VEVENT
BEGIN:VEVENT
DTSTART;VALUE=DATE:20191118
DTEND;VALUE=DATE:20191123
DTSTAMP:20260424T055109
CREATED:20190911T084635Z
LAST-MODIFIED:20190911T084635Z
UID:5210-1574035200-1574467199@new.rothszki.hu
SUMMARY:Szóbeli középszintû érettségi vizsgák
DESCRIPTION:
URL:https://new.rothszki.hu/index.php/event/szobeli-kozepszintu-erettsegi-vizsgak-4/
END:VEVENT
BEGIN:VEVENT
DTSTART;VALUE=DATE:20191118
DTEND;VALUE=DATE:20191119
DTSTAMP:20260424T055109
CREATED:20190911T084634Z
LAST-MODIFIED:20190911T084634Z
UID:5208-1574035200-1574121599@new.rothszki.hu
SUMMARY:Felkészülés kezdete az iskolai konferencianapra (munkaközösség vezetõk| szakkörvezetõk| témavezetõk
DESCRIPTION:
URL:https://new.rothszki.hu/index.php/event/felkeszules-kezdete-az-iskolai-konferencianapra-munkakozosseg-vezetok-szakkorvezetok-temavezetok-3/
END:VEVENT
BEGIN:VEVENT
DTSTART;VALUE=DATE:20191118
DTEND;VALUE=DATE:20191119
DTSTAMP:20260424T055109
CREATED:20190911T084634Z
LAST-MODIFIED:20190911T084634Z
UID:5209-1574035200-1574121599@new.rothszki.hu
SUMMARY:Érettségi felkészítõk választásának elõkészítése a 10. és 11. évfolyamon
DESCRIPTION:
URL:https://new.rothszki.hu/index.php/event/erettsegi-felkeszitok-valasztasanak-elokeszitese-a-10-es-11-evfolyamon-3/
END:VEVENT
BEGIN:VEVENT
DTSTART;VALUE=DATE:20191115
DTEND;VALUE=DATE:20191116
DTSTAMP:20260424T055109
CREATED:20190911T084634Z
LAST-MODIFIED:20190911T084634Z
UID:5207-1573776000-1573862399@new.rothszki.hu
SUMMARY:Szülõi értekezlet és fogadóórák (fakultáció-választás) (rövidített órák)
DESCRIPTION:
URL:https://new.rothszki.hu/index.php/event/szuloi-ertekezlet-es-fogadoorak-fakultacio-valasztas-roviditett-orak-3/
END:VEVENT
BEGIN:VEVENT
DTSTART;VALUE=DATE:20191115
DTEND;VALUE=DATE:20191116
DTSTAMP:20260424T055109
CREATED:20190911T084633Z
LAST-MODIFIED:20190911T084633Z
UID:5206-1573776000-1573862399@new.rothszki.hu
SUMMARY:Munkaközösség-vezetõk és 9. osztályos of-k szóbeli beszámolója
DESCRIPTION:
URL:https://new.rothszki.hu/index.php/event/munkakozosseg-vezetok-es-9-osztalyos-of-k-szobeli-beszamoloja-3/
END:VEVENT
BEGIN:VEVENT
DTSTART;VALUE=DATE:20191114
DTEND;VALUE=DATE:20191115
DTSTAMP:20260424T055109
CREATED:20190911T084633Z
LAST-MODIFIED:20190911T084633Z
UID:5205-1573689600-1573775999@new.rothszki.hu
SUMMARY:Az iskola Tatára kerülésének 100. évfordulója (Centenáriumi ünnepség Tatán)
DESCRIPTION:
URL:https://new.rothszki.hu/index.php/event/az-iskola-tatara-kerulesenek-100-evforduloja-centenariumi-unnepseg-tatan-3/
END:VEVENT
BEGIN:VEVENT
DTSTART;VALUE=DATE:20191113
DTEND;VALUE=DATE:20191114
DTSTAMP:20260424T055109
CREATED:20190911T084633Z
LAST-MODIFIED:20190911T084633Z
UID:5204-1573603200-1573689599@new.rothszki.hu
SUMMARY:Nyílt nap
DESCRIPTION:
URL:https://new.rothszki.hu/index.php/event/nyilt-nap-6/
END:VEVENT
END:VCALENDAR