BEGIN:VCALENDAR
VERSION:2.0
PRODID:-//Kisalföldi ASzC Roth Gyula Erdészeti Technikum, Szakképző Iskola és Kollégium - ECPv6.15.20//NONSGML v1.0//EN
CALSCALE:GREGORIAN
METHOD:PUBLISH
X-WR-CALNAME:Kisalföldi ASzC Roth Gyula Erdészeti Technikum, Szakképző Iskola és Kollégium
X-ORIGINAL-URL:https://new.rothszki.hu
X-WR-CALDESC:Események Kisalföldi ASzC Roth Gyula Erdészeti Technikum, Szakképző Iskola és Kollégium
REFRESH-INTERVAL;VALUE=DURATION:PT1H
X-Robots-Tag:noindex
X-PUBLISHED-TTL:PT1H
BEGIN:VTIMEZONE
TZID:UTC
BEGIN:STANDARD
TZOFFSETFROM:+0000
TZOFFSETTO:+0000
TZNAME:UTC
DTSTART:20170101T000000
END:STANDARD
END:VTIMEZONE
BEGIN:VEVENT
DTSTART;VALUE=DATE:20190412
DTEND;VALUE=DATE:20190413
DTSTAMP:20260424T164458
CREATED:20190122T220103Z
LAST-MODIFIED:20190123T065649Z
UID:3311-1555027200-1555113599@new.rothszki.hu
SUMMARY:Szülõi értekezlet és fogadóórák (Kollégium 13.00-)
DESCRIPTION:
URL:https://new.rothszki.hu/index.php/event/szuloi-ertekezlet-es-fogadoorak-kollegium-13-00/
END:VEVENT
BEGIN:VEVENT
DTSTART;VALUE=DATE:20190408
DTEND;VALUE=DATE:20190413
DTSTAMP:20260424T164458
CREATED:20190122T220103Z
LAST-MODIFIED:20190123T065615Z
UID:3312-1554681600-1555113599@new.rothszki.hu
SUMMARY:Megemlékezés a holokauszt áldozatairól
DESCRIPTION:
URL:https://new.rothszki.hu/index.php/event/megemlekezes-a-holokauszt-aldozatairol/
END:VEVENT
BEGIN:VEVENT
DTSTART;VALUE=DATE:20190408
DTEND;VALUE=DATE:20190413
DTSTAMP:20260424T164458
CREATED:20190122T220103Z
LAST-MODIFIED:20190123T065602Z
UID:3309-1554681600-1555113599@new.rothszki.hu
SUMMARY:Digitális Témahét
DESCRIPTION:
URL:https://new.rothszki.hu/index.php/event/digitalis-temahet/
END:VEVENT
BEGIN:VEVENT
DTSTART;VALUE=DATE:20190405
DTEND;VALUE=DATE:20190406
DTSTAMP:20260424T164458
CREATED:20190122T220102Z
LAST-MODIFIED:20190123T065529Z
UID:3306-1554422400-1554508799@new.rothszki.hu
SUMMARY:Az ideiglenes felvételi rangsor megküldése a Felvételi Központnak
DESCRIPTION:
URL:https://new.rothszki.hu/index.php/event/az-ideiglenes-felveteli-rangsor-megkuldese-a-felveteli-kozpontnak/
END:VEVENT
BEGIN:VEVENT
DTSTART;VALUE=DATE:20190405
DTEND;VALUE=DATE:20190406
DTSTAMP:20260424T164458
CREATED:20190122T220102Z
LAST-MODIFIED:20190123T065546Z
UID:3307-1554422400-1554508799@new.rothszki.hu
SUMMARY:Szakdolgozatok beadási határideje környész erdész esti és nappali tagozaton
DESCRIPTION:
URL:https://new.rothszki.hu/index.php/event/szakdolgozatok-beadasi-hatarideje-kornyesz-erdesz-esti-es-nappali-tagozaton/
END:VEVENT
BEGIN:VEVENT
DTSTART;VALUE=DATE:20190401
DTEND;VALUE=DATE:20190406
DTSTAMP:20260424T164458
CREATED:20190122T220102Z
LAST-MODIFIED:20190123T065509Z
UID:3308-1554076800-1554508799@new.rothszki.hu
SUMMARY:Gyenge tanulmányi eredményû tanulók szüleinek kötelezõ értesítése (osztályfõnökök!)
DESCRIPTION:
URL:https://new.rothszki.hu/index.php/event/gyenge-tanulmanyi-eredmenyu-tanulok-szuleinek-kotelezo-ertesitese-osztalyfonokok/
END:VEVENT
BEGIN:VEVENT
DTSTART;VALUE=DATE:20190330
DTEND;VALUE=DATE:20190331
DTSTAMP:20260424T164458
CREATED:20190122T220101Z
LAST-MODIFIED:20190123T065444Z
UID:3305-1553904000-1553990399@new.rothszki.hu
SUMMARY:Gyûjtési feladatok kiadási határideje – 9. évfolyam (leveles hajtás) 10.évfolyam (lágyszárú) 12. évfolyam (csíracsemete) 13.esti (leveles hajtás lágyszárú csíracsemete)
DESCRIPTION:
URL:https://new.rothszki.hu/index.php/event/gyujtesi-feladatok-kiadasi-hatarideje-9-evfolyam-leveles-hajtas-10-evfolyam-lagyszaru-12-evfolyam-csiracsemete-13-esti-leveles-hajtas-lagyszaru-csiracsemete/
END:VEVENT
BEGIN:VEVENT
DTSTART;VALUE=DATE:20190321
DTEND;VALUE=DATE:20190323
DTSTAMP:20260424T164458
CREATED:20190122T220101Z
LAST-MODIFIED:20190123T065414Z
UID:3304-1553126400-1553299199@new.rothszki.hu
SUMMARY:Felvételi jelentkezések módosítása az általános iskolánál
DESCRIPTION:
URL:https://new.rothszki.hu/index.php/event/felveteli-jelentkezesek-modositasa-az-altalanos-iskolanal/
END:VEVENT
BEGIN:VEVENT
DTSTART;VALUE=DATE:20190318
DTEND;VALUE=DATE:20190323
DTSTAMP:20260424T164458
CREATED:20190122T220100Z
LAST-MODIFIED:20190123T065358Z
UID:3303-1552867200-1553299199@new.rothszki.hu
SUMMARY:Fenntarthatóság- környezettudatosság témahete
DESCRIPTION:
URL:https://new.rothszki.hu/index.php/event/fenntarthatosag-kornyezettudatossag-temahete/
END:VEVENT
BEGIN:VEVENT
DTSTART;VALUE=DATE:20190314
DTEND;VALUE=DATE:20190315
DTSTAMP:20260424T164458
CREATED:20190122T220100Z
LAST-MODIFIED:20190123T065340Z
UID:3302-1552521600-1552607999@new.rothszki.hu
SUMMARY:Megemlékezés Márc.15-rõl Eötvös Gimnáziummal közösen
DESCRIPTION:
URL:https://new.rothszki.hu/index.php/event/megemlekezes-marc-15-rol-eotvos-gimnaziummal-kozosen/
END:VEVENT
BEGIN:VEVENT
DTSTART;VALUE=DATE:20190309
DTEND;VALUE=DATE:20190310
DTSTAMP:20260424T164458
CREATED:20190122T220059Z
LAST-MODIFIED:20190123T065319Z
UID:3301-1552089600-1552175999@new.rothszki.hu
SUMMARY:Ideiglenes felvételi jegyzék közzététel
DESCRIPTION:
URL:https://new.rothszki.hu/index.php/event/ideiglenes-felveteli-jegyzek-kozzetetel/
END:VEVENT
BEGIN:VEVENT
DTSTART;TZID=UTC:20190307T140000
DTEND;TZID=UTC:20190307T170000
DTSTAMP:20260424T164458
CREATED:20190215T084815Z
LAST-MODIFIED:20190215T084815Z
UID:3772-1551967200-1551978000@new.rothszki.hu
SUMMARY:Próbaérettségi
DESCRIPTION:Próbaérettségi magyar nyelv és irodalom tantárgyból
URL:https://new.rothszki.hu/index.php/event/probaerettsegi/
END:VEVENT
BEGIN:VEVENT
DTSTART;VALUE=DATE:20190304
DTEND;VALUE=DATE:20190307
DTSTAMP:20260424T164458
CREATED:20190122T220059Z
LAST-MODIFIED:20190123T065252Z
UID:3300-1551657600-1551916799@new.rothszki.hu
SUMMARY:Felvételi elbeszélgetés – pótló
DESCRIPTION:
URL:https://new.rothszki.hu/index.php/event/felveteli-elbeszelgetes-potlo/
END:VEVENT
BEGIN:VEVENT
DTSTART;VALUE=DATE:20190301
DTEND;VALUE=DATE:20190302
DTSTAMP:20260424T164458
CREATED:20190122T220059Z
LAST-MODIFIED:20190123T065237Z
UID:3299-1551398400-1551484799@new.rothszki.hu
SUMMARY:Felvételi beszélgetés
DESCRIPTION:
URL:https://new.rothszki.hu/index.php/event/felveteli-beszelgetes/
END:VEVENT
BEGIN:VEVENT
DTSTART;VALUE=DATE:20190228
DTEND;VALUE=DATE:20190301
DTSTAMP:20260424T164458
CREATED:20190122T220058Z
LAST-MODIFIED:20190123T065212Z
UID:3298-1551312000-1551398399@new.rothszki.hu
SUMMARY:Gyûjtemények beadási határideje – 9.évfolyamon (rügy) 13. évfolyam (károsító) 13.esti (rügy)  14.esti (mag károsító)
DESCRIPTION:
URL:https://new.rothszki.hu/index.php/event/gyujtemenyek-beadasi-hatarideje-9-evfolyamon-rugy-13-evfolyam-karosito-13-esti-rugy-14-esti-mag-karosito/
END:VEVENT
BEGIN:VEVENT
DTSTART;VALUE=DATE:20190227
DTEND;VALUE=DATE:20190228
DTSTAMP:20260424T164458
CREATED:20190122T220058Z
LAST-MODIFIED:20190123T065201Z
UID:3297-1551225600-1551311999@new.rothszki.hu
SUMMARY:Konferencia nap
DESCRIPTION:
URL:https://new.rothszki.hu/index.php/event/konferencia-nap/
END:VEVENT
BEGIN:VEVENT
DTSTART;VALUE=DATE:20190225
DTEND;VALUE=DATE:20190302
DTSTAMP:20260424T164458
CREATED:20190122T220057Z
LAST-MODIFIED:20190123T065054Z
UID:3296-1551052800-1551484799@new.rothszki.hu
SUMMARY:„Pénz7” – Pénzügyi és vállalkozói témahét
DESCRIPTION:
URL:https://new.rothszki.hu/index.php/event/penz7-penzugyi-es-vallalkozoi-temahet/
END:VEVENT
BEGIN:VEVENT
DTSTART;VALUE=DATE:20190225
DTEND;VALUE=DATE:20190226
DTSTAMP:20260424T164458
CREATED:20190122T220057Z
LAST-MODIFIED:20190123T065027Z
UID:3295-1551052800-1551139199@new.rothszki.hu
SUMMARY:Megemlékezés a kommunista diktatúrák áldozatairól (febr.25.) osztályfõnöki óra
DESCRIPTION:
URL:https://new.rothszki.hu/index.php/event/megemlekezes-a-kommunista-diktaturak-aldozatairol-febr-25-osztalyfonoki-ora/
END:VEVENT
BEGIN:VEVENT
DTSTART;VALUE=DATE:20190215
DTEND;VALUE=DATE:20190216
DTSTAMP:20260424T164458
CREATED:20190122T220057Z
LAST-MODIFIED:20190123T065002Z
UID:3294-1550188800-1550275199@new.rothszki.hu
SUMMARY:Jelentkezés végsõ határideje az érettségi képesítõ vizsgákra  felsõfokú oktatási intézményekbe
DESCRIPTION:
URL:https://new.rothszki.hu/index.php/event/jelentkezes-vegso-hatarideje-az-erettsegi-kepesito-vizsgakra-felsofoku-oktatasi-intezmenyekbe/
END:VEVENT
BEGIN:VEVENT
DTSTART;VALUE=DATE:20190208
DTEND;VALUE=DATE:20190209
DTSTAMP:20260424T164458
CREATED:20181230T202215Z
LAST-MODIFIED:20190201T064647Z
UID:2772-1549584000-1549670399@new.rothszki.hu
SUMMARY:Weboldal indulása
DESCRIPTION:
URL:https://new.rothszki.hu/index.php/event/weboldal-indulasa/
ATTACH;FMTTYPE=image/jpeg:https://new.rothszki.hu/wp-content/uploads/2018/12/isk_tuztorony_v1280-360x200-1.jpg
END:VEVENT
BEGIN:VEVENT
DTSTART;VALUE=DATE:20190208
DTEND;VALUE=DATE:20190209
DTSTAMP:20260424T164458
CREATED:20190122T220054Z
LAST-MODIFIED:20190123T064930Z
UID:3292-1549584000-1549670399@new.rothszki.hu
SUMMARY:Szalagavató
DESCRIPTION:
URL:https://new.rothszki.hu/index.php/event/szalagavato/
END:VEVENT
BEGIN:VEVENT
DTSTART;VALUE=DATE:20190208
DTEND;VALUE=DATE:20190209
DTSTAMP:20260424T164458
CREATED:20190122T220054Z
LAST-MODIFIED:20190123T064950Z
UID:3293-1549584000-1549670399@new.rothszki.hu
SUMMARY:Iskolabál
DESCRIPTION:
URL:https://new.rothszki.hu/index.php/event/iskolabal/
END:VEVENT
BEGIN:VEVENT
DTSTART;VALUE=DATE:20190201
DTEND;VALUE=DATE:20190202
DTSTAMP:20260424T164458
CREATED:20190122T220054Z
LAST-MODIFIED:20190123T064822Z
UID:3290-1548979200-1549065599@new.rothszki.hu
SUMMARY:A szülõk értesítése az elsõ félév eredményeirõl
DESCRIPTION:
URL:https://new.rothszki.hu/index.php/event/a-szulok-ertesitese-az-elso-felev-eredmenyeirol/
END:VEVENT
BEGIN:VEVENT
DTSTART;VALUE=DATE:20190201
DTEND;VALUE=DATE:20190202
DTSTAMP:20260424T164458
CREATED:20190122T220054Z
LAST-MODIFIED:20190123T064841Z
UID:3291-1548979200-1549065599@new.rothszki.hu
SUMMARY:Fogadó órák
DESCRIPTION:
URL:https://new.rothszki.hu/index.php/event/fogado-orak/
END:VEVENT
BEGIN:VEVENT
DTSTART;VALUE=DATE:20190131
DTEND;VALUE=DATE:20190201
DTSTAMP:20260424T164458
CREATED:20190122T220054Z
LAST-MODIFIED:20190123T064502Z
UID:3289-1548892800-1548979199@new.rothszki.hu
SUMMARY:Nevelõtestületi értekezlet (pedagógiai munka elemzése értékelése – félévi értékelés)
DESCRIPTION:
URL:https://new.rothszki.hu/index.php/event/nevelotestuleti-ertekezlet-pedagogiai-munka-elemzese-ertekelese-felevi-ertekeles/
END:VEVENT
BEGIN:VEVENT
DTSTART;VALUE=DATE:20181212
DTEND;VALUE=DATE:20181213
DTSTAMP:20260424T164458
CREATED:20181023T174315Z
LAST-MODIFIED:20181023T174315Z
UID:1232-1544572800-1544659199@new.rothszki.hu
SUMMARY:Nyílt nap
DESCRIPTION:  \nNyílt napok\nAz iskolánk szakgimnáziumi képzésben erdészeti- és vadgazdálkodási technikusokat\, faipari technikusokat\, környezetvédelmi technikusokat és parképítő és fenntartó technikusokat képez. Szakközépiskolai szinten a kertész\, a dísznövénykertész\, a virágkötő és virágkereskedő\, illetve szőlész-borász képzések közül választhatnak az érdeklődők. \nProgram\n12:30 – 13:00 Érkezés\, filmvetítés az iskola képzéseiről\, tájékoztatás a programról.\nIskola épület (Sopron\, Szent György u. 9.)\n13:00 – 13:30 Bemutató órák az iskolában\nIskola épület (Sopron\, Szent György u. 9.)\n13:50 – 14:30 Igazgatói tájékoztató az iskola működéséről és a felvételi eljárásról\nKollégium (Sopron\, Lackner Kristóf u. 7.)\n14:30 – kb. 15:15 A kollégium bemutatása\nKollégium (Sopron\, Lackner Kristóf u. 7.\, Bánfalvi u. 48-50.)\nA nyílt napok ideje alatt az érdeklődőknek a kollégium udvarában parkolási lehetőséget biztosítunk.
URL:https://new.rothszki.hu/index.php/event/nyilt-nap/
ATTACH;FMTTYPE=:
END:VEVENT
BEGIN:VEVENT
DTSTART;VALUE=DATE:20181129
DTEND;VALUE=DATE:20181130
DTSTAMP:20260424T164458
CREATED:20181023T174225Z
LAST-MODIFIED:20181023T174225Z
UID:1230-1543449600-1543535999@new.rothszki.hu
SUMMARY:Nyílt napok
DESCRIPTION:Nyílt napok\nAz iskolánk szakgimnáziumi képzésben erdészeti- és vadgazdálkodási technikusokat\, faipari technikusokat\, környezetvédelmi technikusokat és parképítő és fenntartó technikusokat képez. Szakközépiskolai szinten a kertész\, a dísznövénykertész\, a virágkötő és virágkereskedő\, illetve szőlész-borász képzések közül választhatnak az érdeklődők. \nProgram\n12:30 – 13:00 Érkezés\, filmvetítés az iskola képzéseiről\, tájékoztatás a programról.\nIskola épület (Sopron\, Szent György u. 9.)\n13:00 – 13:30 Bemutató órák az iskolában\nIskola épület (Sopron\, Szent György u. 9.)\n13:50 – 14:30 Igazgatói tájékoztató az iskola működéséről és a felvételi eljárásról\nKollégium (Sopron\, Lackner Kristóf u. 7.)\n14:30 – kb. 15:15 A kollégium bemutatása\nKollégium (Sopron\, Lackner Kristóf u. 7.\, Bánfalvi u. 48-50.)\nA nyílt napok ideje alatt az érdeklődőknek a kollégium udvarában parkolási lehetőséget biztosítunk.
URL:https://new.rothszki.hu/index.php/event/nyilt-napok-2/
END:VEVENT
BEGIN:VEVENT
DTSTART;TZID=UTC:20181112T080000
DTEND;TZID=UTC:20181114T170000
DTSTAMP:20260424T164458
CREATED:20181108T072546Z
LAST-MODIFIED:20181108T072546Z
UID:1645-1542009600-1542214800@new.rothszki.hu
SUMMARY:Értesítés
DESCRIPTION:Gyenge tanulmányi eredményű tanulók szüleinek kötelező értesítése (osztályfőnökök!)
URL:https://new.rothszki.hu/index.php/event/ertesites/
END:VEVENT
BEGIN:VEVENT
DTSTART;TZID=UTC:20181108T143000
DTEND;TZID=UTC:20181108T170000
DTSTAMP:20260424T164458
CREATED:20181108T072428Z
LAST-MODIFIED:20181108T072428Z
UID:1643-1541687400-1541696400@new.rothszki.hu
SUMMARY:Nevelési értekezlet
DESCRIPTION:Nevelési értekezlet – differenciált oktatás (külső szakértő)\, 9.évfolyamon tanítók értekezlete
URL:https://new.rothszki.hu/index.php/event/nevelesi-ertekezlet/
END:VEVENT
BEGIN:VEVENT
DTSTART;VALUE=DATE:20181108
DTEND;VALUE=DATE:20181113
DTSTAMP:20260424T164458
CREATED:20181108T072629Z
LAST-MODIFIED:20181108T072629Z
UID:1647-1541635200-1542067199@new.rothszki.hu
SUMMARY:Érettségi vizsgák
DESCRIPTION:Szóbeli emelt szintű érettségi vizsgák
URL:https://new.rothszki.hu/index.php/event/erettsegi-vizsgak/
END:VEVENT
END:VCALENDAR