BEGIN:VCALENDAR
VERSION:2.0
PRODID:-//Kisalföldi ASzC Roth Gyula Erdészeti Technikum, Szakképző Iskola és Kollégium - ECPv6.15.20//NONSGML v1.0//EN
CALSCALE:GREGORIAN
METHOD:PUBLISH
X-ORIGINAL-URL:https://new.rothszki.hu
X-WR-CALDESC:Események Kisalföldi ASzC Roth Gyula Erdészeti Technikum, Szakképző Iskola és Kollégium
REFRESH-INTERVAL;VALUE=DURATION:PT1H
X-Robots-Tag:noindex
X-PUBLISHED-TTL:PT1H
BEGIN:VTIMEZONE
TZID:UTC
BEGIN:STANDARD
TZOFFSETFROM:+0000
TZOFFSETTO:+0000
TZNAME:UTC
DTSTART:20190101T000000
END:STANDARD
END:VTIMEZONE
BEGIN:VEVENT
DTSTART;TZID=UTC:20211021T140000
DTEND;TZID=UTC:20211021T170000
DTSTAMP:20260423T190632
CREATED:20211018T085924Z
LAST-MODIFIED:20211018T085924Z
UID:7330-1634824800-1634835600@new.rothszki.hu
SUMMARY:Véradás
DESCRIPTION:
URL:https://new.rothszki.hu/index.php/event/veradas-3/
END:VEVENT
BEGIN:VEVENT
DTSTART;VALUE=DATE:20211018
DTEND;VALUE=DATE:20211029
DTSTAMP:20260423T190632
CREATED:20211018T085510Z
LAST-MODIFIED:20211018T090933Z
UID:7328-1634515200-1635465599@new.rothszki.hu
SUMMARY:Írásbeli érettségi vizsgák
DESCRIPTION:
URL:https://new.rothszki.hu/index.php/event/kozepszintu-irasbeli-erettsegi-vizsgak/
END:VEVENT
BEGIN:VEVENT
DTSTART;VALUE=DATE:20201124
DTEND;VALUE=DATE:20201126
DTSTAMP:20260423T190632
CREATED:20201014T084832Z
LAST-MODIFIED:20201014T084832Z
UID:6435-1606176000-1606348799@new.rothszki.hu
SUMMARY:szóbeli középszintű érettségi iskolánkban
DESCRIPTION:
URL:https://new.rothszki.hu/index.php/event/szobeli-kozepszintu-erettsegi-iskolankban/
END:VEVENT
BEGIN:VEVENT
DTSTART;VALUE=DATE:20201116
DTEND;VALUE=DATE:20201128
DTSTAMP:20260423T190632
CREATED:20201015T090149Z
LAST-MODIFIED:20201015T090149Z
UID:6438-1605484800-1606521599@new.rothszki.hu
SUMMARY:13/B összefüggő fahasználati gyakorlata
DESCRIPTION:
URL:https://new.rothszki.hu/index.php/event/13-b-osszefuggo-fahasznalati-gyakorlata/
END:VEVENT
BEGIN:VEVENT
DTSTART;VALUE=DATE:20201112
DTEND;VALUE=DATE:20201117
DTSTAMP:20260423T190632
CREATED:20201014T084650Z
LAST-MODIFIED:20201014T084650Z
UID:6433-1605139200-1605571199@new.rothszki.hu
SUMMARY:Szóbeli emelt szintű érettségi vizsgák
DESCRIPTION:
URL:https://new.rothszki.hu/index.php/event/szobeli-emelt-szintu-erettsegi-vizsgak/
END:VEVENT
BEGIN:VEVENT
DTSTART;VALUE=DATE:20201105
DTEND;VALUE=DATE:20201106
DTSTAMP:20260423T190632
CREATED:20201014T084125Z
LAST-MODIFIED:20201014T084125Z
UID:6429-1604534400-1604620799@new.rothszki.hu
SUMMARY:Nevelési értekezlet
DESCRIPTION:
URL:https://new.rothszki.hu/index.php/event/nevelesi-ertekezlet-2/
END:VEVENT
BEGIN:VEVENT
DTSTART;VALUE=DATE:20201102
DTEND;VALUE=DATE:20201107
DTSTAMP:20260423T190632
CREATED:20201014T082531Z
LAST-MODIFIED:20201015T082545Z
UID:6414-1604275200-1604707199@new.rothszki.hu
SUMMARY:12/A osztály összefüggő fahasználati gyakorlata
DESCRIPTION:
URL:https://new.rothszki.hu/index.php/event/12-b-osztaly-osszefuggo-fahasznalati-gyakorlata/
END:VEVENT
BEGIN:VEVENT
DTSTART;VALUE=DATE:20201102
DTEND;VALUE=DATE:20201103
DTSTAMP:20260423T190632
CREATED:20201014T083803Z
LAST-MODIFIED:20201014T083803Z
UID:6425-1604275200-1604361599@new.rothszki.hu
SUMMARY:őszi szünet utáni első tanÍtási nap
DESCRIPTION:
URL:https://new.rothszki.hu/index.php/event/oszi-szunet-utani-elso-tanitasi-nap/
END:VEVENT
BEGIN:VEVENT
DTSTART;VALUE=DATE:20201023
DTEND;VALUE=DATE:20201102
DTSTAMP:20260423T190632
CREATED:20201014T083341Z
LAST-MODIFIED:20201014T083341Z
UID:6421-1603411200-1604275199@new.rothszki.hu
SUMMARY:Őszi szünet
DESCRIPTION:
URL:https://new.rothszki.hu/index.php/event/oszi-szunet/
END:VEVENT
BEGIN:VEVENT
DTSTART;VALUE=DATE:20201022
DTEND;VALUE=DATE:20201023
DTSTAMP:20260423T190632
CREATED:20201014T083434Z
LAST-MODIFIED:20201014T083434Z
UID:6423-1603324800-1603411199@new.rothszki.hu
SUMMARY:Őszi szünet előtti utolsó tanítási nap
DESCRIPTION:
URL:https://new.rothszki.hu/index.php/event/oszi-szunet-elotti-utolso-tanitasi-nap/
END:VEVENT
BEGIN:VEVENT
DTSTART;VALUE=DATE:20201022
DTEND;VALUE=DATE:20201023
DTSTAMP:20260423T190632
CREATED:20201014T082949Z
LAST-MODIFIED:20201014T082949Z
UID:6419-1603324800-1603411199@new.rothszki.hu
SUMMARY:Megemlékezés okt. 23-ról (of-i óra keretében)
DESCRIPTION:
URL:https://new.rothszki.hu/index.php/event/megemlekezes-okt-23-rol-of-i-ora-kereteben/
END:VEVENT
BEGIN:VEVENT
DTSTART;VALUE=DATE:20201019
DTEND;VALUE=DATE:20201031
DTSTAMP:20260423T190632
CREATED:20201014T084320Z
LAST-MODIFIED:20201014T084320Z
UID:6431-1603065600-1604102399@new.rothszki.hu
SUMMARY:Őszi írásbeli érettségi vizsgák
DESCRIPTION:
URL:https://new.rothszki.hu/index.php/event/oszi-irasbeli-erettsegi-vizsgak/
END:VEVENT
BEGIN:VEVENT
DTSTART;VALUE=DATE:20201015
DTEND;VALUE=DATE:20201016
DTSTAMP:20260423T190632
CREATED:20201014T082815Z
LAST-MODIFIED:20201014T082815Z
UID:6417-1602720000-1602806399@new.rothszki.hu
SUMMARY:Véradás
DESCRIPTION:
URL:https://new.rothszki.hu/index.php/event/veradas-2/
END:VEVENT
BEGIN:VEVENT
DTSTART;VALUE=DATE:20201012
DTEND;VALUE=DATE:20201023
DTSTAMP:20260423T190632
CREATED:20201014T084039Z
LAST-MODIFIED:20201015T082944Z
UID:6427-1602460800-1603411199@new.rothszki.hu
SUMMARY:13/A osztály összefüggő fahasználati gyakorlata
DESCRIPTION:
URL:https://new.rothszki.hu/index.php/event/13-a-osztaly-osszefuggo-fahasznalati-gyakorlata-2/
END:VEVENT
BEGIN:VEVENT
DTSTART;VALUE=DATE:20200901
DTEND;VALUE=DATE:20200902
DTSTAMP:20260423T190632
CREATED:20190911T084705Z
LAST-MODIFIED:20190911T084705Z
UID:5306-1598918400-1599004799@new.rothszki.hu
SUMMARY:Elsõ tanítási nap
DESCRIPTION:
URL:https://new.rothszki.hu/index.php/event/elso-tanitasi-nap-5/
END:VEVENT
BEGIN:VEVENT
DTSTART;VALUE=DATE:20200901
DTEND;VALUE=DATE:20200905
DTSTAMP:20260423T190632
CREATED:20190911T084705Z
LAST-MODIFIED:20190911T084705Z
UID:5307-1598918400-1599263999@new.rothszki.hu
SUMMARY:Balekhét a 9. évfolyamnak
DESCRIPTION:
URL:https://new.rothszki.hu/index.php/event/balekhet-a-9-evfolyamnak-6/
END:VEVENT
BEGIN:VEVENT
DTSTART;VALUE=DATE:20200831
DTEND;VALUE=DATE:20200901
DTSTAMP:20260423T190632
CREATED:20190911T084705Z
LAST-MODIFIED:20190911T084705Z
UID:5305-1598832000-1598918399@new.rothszki.hu
SUMMARY:Tanévnyitó ünnepség
DESCRIPTION:
URL:https://new.rothszki.hu/index.php/event/tanevnyito-unnepseg-3/
END:VEVENT
BEGIN:VEVENT
DTSTART;VALUE=DATE:20200825
DTEND;VALUE=DATE:20200828
DTSTAMP:20260423T190632
CREATED:20190911T084704Z
LAST-MODIFIED:20190911T084704Z
UID:5303-1598313600-1598572799@new.rothszki.hu
SUMMARY:Javítóvizsgák
DESCRIPTION:
URL:https://new.rothszki.hu/index.php/event/javitovizsgak-3/
END:VEVENT
BEGIN:VEVENT
DTSTART;VALUE=DATE:20200824
DTEND;VALUE=DATE:20200825
DTSTAMP:20260423T190632
CREATED:20190911T084704Z
LAST-MODIFIED:20190911T084704Z
UID:5304-1598227200-1598313599@new.rothszki.hu
SUMMARY:Munkaközösségi értekezletek| nyári gyakorlat pótlása
DESCRIPTION:
URL:https://new.rothszki.hu/index.php/event/munkakozossegi-ertekezletek-nyari-gyakorlat-potlasa-3/
END:VEVENT
BEGIN:VEVENT
DTSTART;VALUE=DATE:20200824
DTEND;VALUE=DATE:20200825
DTSTAMP:20260423T190632
CREATED:20190911T084704Z
LAST-MODIFIED:20190911T084704Z
UID:5302-1598227200-1598313599@new.rothszki.hu
SUMMARY:Tanévnyitó értekezlet
DESCRIPTION:
URL:https://new.rothszki.hu/index.php/event/tanevnyito-ertekezlet-3/
END:VEVENT
BEGIN:VEVENT
DTSTART;VALUE=DATE:20200729
DTEND;VALUE=DATE:20200801
DTSTAMP:20260423T190632
CREATED:20190911T084704Z
LAST-MODIFIED:20190911T084704Z
UID:5301-1595980800-1596239999@new.rothszki.hu
SUMMARY:Esti és nappali 13-os jelentkezések összegzése
DESCRIPTION:
URL:https://new.rothszki.hu/index.php/event/esti-es-nappali-13-os-jelentkezesek-osszegzese-3/
END:VEVENT
BEGIN:VEVENT
DTSTART;VALUE=DATE:20200626
DTEND;VALUE=DATE:20200627
DTSTAMP:20260423T190632
CREATED:20190911T084703Z
LAST-MODIFIED:20190911T084703Z
UID:5300-1593129600-1593215999@new.rothszki.hu
SUMMARY:Tanévzáró értekezlet
DESCRIPTION:
URL:https://new.rothszki.hu/index.php/event/tanevzaro-ertekezlet-4/
END:VEVENT
BEGIN:VEVENT
DTSTART;VALUE=DATE:20200625
DTEND;VALUE=DATE:20200626
DTSTAMP:20260423T190632
CREATED:20190911T084703Z
LAST-MODIFIED:20190911T084703Z
UID:5299-1593043200-1593129599@new.rothszki.hu
SUMMARY:Munkaközösségi jelentések leadása az igh-nek
DESCRIPTION:
URL:https://new.rothszki.hu/index.php/event/munkakozossegi-jelentesek-leadasa-az-igh-nek-3/
END:VEVENT
BEGIN:VEVENT
DTSTART;VALUE=DATE:20200622
DTEND;VALUE=DATE:20200623
DTSTAMP:20260423T190632
CREATED:20190911T084702Z
LAST-MODIFIED:20190911T084702Z
UID:5298-1592784000-1592870399@new.rothszki.hu
SUMMARY:Augusztusi javítóvizsga dokumentumainak leadása az igazgatóhelyetteseknek
DESCRIPTION:
URL:https://new.rothszki.hu/index.php/event/augusztusi-javitovizsga-dokumentumainak-leadasa-az-igazgatohelyetteseknek-3/
END:VEVENT
BEGIN:VEVENT
DTSTART;VALUE=DATE:20200618
DTEND;VALUE=DATE:20200619
DTSTAMP:20260423T190632
CREATED:20190911T084702Z
LAST-MODIFIED:20190911T084702Z
UID:5295-1592438400-1592524799@new.rothszki.hu
SUMMARY:Beiratkozás
DESCRIPTION:
URL:https://new.rothszki.hu/index.php/event/beiratkozas-4/
END:VEVENT
BEGIN:VEVENT
DTSTART;VALUE=DATE:20200615
DTEND;VALUE=DATE:20200901
DTSTAMP:20260423T190632
CREATED:20190911T084701Z
LAST-MODIFIED:20190911T084702Z
UID:5294-1592179200-1598918399@new.rothszki.hu
SUMMARY:Nyári üzemi gyakorlat külön beosztás szerint
DESCRIPTION:
URL:https://new.rothszki.hu/index.php/event/nyari-uzemi-gyakorlat-kulon-beosztas-szerint-3/
END:VEVENT
BEGIN:VEVENT
DTSTART;VALUE=DATE:20200615
DTEND;VALUE=DATE:20200620
DTSTAMP:20260423T190632
CREATED:20190911T084701Z
LAST-MODIFIED:20190911T084701Z
UID:5292-1592179200-1592611199@new.rothszki.hu
SUMMARY:Munkaközösségi értekezletek
DESCRIPTION:
URL:https://new.rothszki.hu/index.php/event/munkakozossegi-ertekezletek-3/
END:VEVENT
BEGIN:VEVENT
DTSTART;VALUE=DATE:20200615
DTEND;VALUE=DATE:20200627
DTSTAMP:20260423T190632
CREATED:20190911T084701Z
LAST-MODIFIED:20190911T084702Z
UID:5293-1592179200-1593215999@new.rothszki.hu
SUMMARY:Szóbeli középszintû érettségi vizsgák
DESCRIPTION:
URL:https://new.rothszki.hu/index.php/event/szobeli-kozepszintu-erettsegi-vizsgak-5/
END:VEVENT
BEGIN:VEVENT
DTSTART;VALUE=DATE:20200613
DTEND;VALUE=DATE:20200614
DTSTAMP:20260423T190632
CREATED:20190911T084701Z
LAST-MODIFIED:20190911T084701Z
UID:5291-1592006400-1592092799@new.rothszki.hu
SUMMARY:Tanévzáró ünnepség
DESCRIPTION:
URL:https://new.rothszki.hu/index.php/event/tanevzaro-unnepseg-3/
END:VEVENT
BEGIN:VEVENT
DTSTART;VALUE=DATE:20200612
DTEND;VALUE=DATE:20200613
DTSTAMP:20260423T190632
CREATED:20190911T084700Z
LAST-MODIFIED:20190911T084700Z
UID:5289-1591920000-1592006399@new.rothszki.hu
SUMMARY:Erdõtisztasági nap (gyakorlati nap)
DESCRIPTION:
URL:https://new.rothszki.hu/index.php/event/erdotisztasagi-nap-gyakorlati-nap-4/
END:VEVENT
END:VCALENDAR