BEGIN:VCALENDAR
VERSION:2.0
PRODID:-//Kisalföldi ASzC Roth Gyula Erdészeti Technikum, Szakképző Iskola és Kollégium - ECPv6.15.20//NONSGML v1.0//EN
CALSCALE:GREGORIAN
METHOD:PUBLISH
X-WR-CALNAME:Kisalföldi ASzC Roth Gyula Erdészeti Technikum, Szakképző Iskola és Kollégium
X-ORIGINAL-URL:https://new.rothszki.hu
X-WR-CALDESC:Események Kisalföldi ASzC Roth Gyula Erdészeti Technikum, Szakképző Iskola és Kollégium
REFRESH-INTERVAL;VALUE=DURATION:PT1H
X-Robots-Tag:noindex
X-PUBLISHED-TTL:PT1H
BEGIN:VTIMEZONE
TZID:UTC
BEGIN:STANDARD
TZOFFSETFROM:+0000
TZOFFSETTO:+0000
TZNAME:UTC
DTSTART:20190101T000000
END:STANDARD
END:VTIMEZONE
BEGIN:VEVENT
DTSTART;VALUE=DATE:20200417
DTEND;VALUE=DATE:20200418
DTSTAMP:20260424T013439
CREATED:20190911T084652Z
LAST-MODIFIED:20190911T084652Z
UID:5264-1587081600-1587167999@new.rothszki.hu
SUMMARY:Szakdolgozatok címének| vizsgaremekek témájának leadási határideje 12. évfolyamon (osztályfõnökök!)
DESCRIPTION:
URL:https://new.rothszki.hu/index.php/event/szakdolgozatok-cimenek-vizsgaremekek-temajanak-leadasi-hatarideje-12-evfolyamon-osztalyfonokok-3/
END:VEVENT
BEGIN:VEVENT
DTSTART;VALUE=DATE:20200415
DTEND;VALUE=DATE:20200418
DTSTAMP:20260424T013439
CREATED:20190911T084652Z
LAST-MODIFIED:20190911T084652Z
UID:5263-1586908800-1587167999@new.rothszki.hu
SUMMARY:Megemlékezés a holokauszt áldozatairól (ápr. 16.) Osztályfõnöki óra
DESCRIPTION:
URL:https://new.rothszki.hu/index.php/event/megemlekezes-a-holokauszt-aldozatairol-apr-16-osztalyfonoki-ora-3/
END:VEVENT
BEGIN:VEVENT
DTSTART;VALUE=DATE:20200404
DTEND;VALUE=DATE:20200415
DTSTAMP:20260424T013439
CREATED:20190911T084650Z
LAST-MODIFIED:20190911T084650Z
UID:5262-1585958400-1586908799@new.rothszki.hu
SUMMARY:Tavaszi szünet
DESCRIPTION:
URL:https://new.rothszki.hu/index.php/event/tavaszi-szunet-4/
END:VEVENT
BEGIN:VEVENT
DTSTART;VALUE=DATE:20200403
DTEND;VALUE=DATE:20200404
DTSTAMP:20260424T013439
CREATED:20190911T084650Z
LAST-MODIFIED:20190911T084650Z
UID:5261-1585872000-1585958399@new.rothszki.hu
SUMMARY:Szülõi értekezlet és fogadóórák (Rövidített órák)
DESCRIPTION:
URL:https://new.rothszki.hu/index.php/event/szuloi-ertekezlet-es-fogadoorak-roviditett-orak-3/
END:VEVENT
BEGIN:VEVENT
DTSTART;VALUE=DATE:20200403
DTEND;VALUE=DATE:20200404
DTSTAMP:20260424T013439
CREATED:20190911T084650Z
LAST-MODIFIED:20190911T084650Z
UID:5258-1585872000-1585958399@new.rothszki.hu
SUMMARY:Szakdolgozatok beadási határideje környész| erdész esti és nappali tagozaton (1200)
DESCRIPTION:
URL:https://new.rothszki.hu/index.php/event/szakdolgozatok-beadasi-hatarideje-kornyesz-erdesz-esti-es-nappali-tagozaton-1200-3/
END:VEVENT
BEGIN:VEVENT
DTSTART;VALUE=DATE:20200403
DTEND;VALUE=DATE:20200404
DTSTAMP:20260424T013439
CREATED:20190911T084650Z
LAST-MODIFIED:20190911T084650Z
UID:5260-1585872000-1585958399@new.rothszki.hu
SUMMARY:Véradás
DESCRIPTION:
URL:https://new.rothszki.hu/index.php/event/veradas-6/
END:VEVENT
BEGIN:VEVENT
DTSTART;VALUE=DATE:20200403
DTEND;VALUE=DATE:20200404
DTSTAMP:20260424T013439
CREATED:20190911T084649Z
LAST-MODIFIED:20190911T084649Z
UID:5257-1585872000-1585958399@new.rothszki.hu
SUMMARY:Az ideiglenes felvételi rangsor megküldése a Felvételi Központnak
DESCRIPTION:
URL:https://new.rothszki.hu/index.php/event/az-ideiglenes-felveteli-rangsor-megkuldese-a-felveteli-kozpontnak-4/
END:VEVENT
BEGIN:VEVENT
DTSTART;VALUE=DATE:20200402
DTEND;VALUE=DATE:20200404
DTSTAMP:20260424T013439
CREATED:20190911T084649Z
LAST-MODIFIED:20190911T084649Z
UID:5256-1585785600-1585958399@new.rothszki.hu
SUMMARY:Egyetemi Bázisiskolai Verseny - faipar
DESCRIPTION:
URL:https://new.rothszki.hu/index.php/event/egyetemi-bazisiskolai-verseny-faipar-3/
END:VEVENT
BEGIN:VEVENT
DTSTART;VALUE=DATE:20200330
DTEND;VALUE=DATE:20200404
DTSTAMP:20260424T013439
CREATED:20190911T084650Z
LAST-MODIFIED:20190911T084650Z
UID:5259-1585526400-1585958399@new.rothszki.hu
SUMMARY:Gyenge tanulmányi eredményû tanulók szüleinek kötelezõ értesítése (osztályfõnökök!)
DESCRIPTION:
URL:https://new.rothszki.hu/index.php/event/gyenge-tanulmanyi-eredmenyu-tanulok-szuleinek-kotelezo-ertesitese-osztalyfonokok-6/
END:VEVENT
BEGIN:VEVENT
DTSTART;VALUE=DATE:20200330
DTEND;VALUE=DATE:20200404
DTSTAMP:20260424T013439
CREATED:20190911T084649Z
LAST-MODIFIED:20190911T084649Z
UID:5255-1585526400-1585958399@new.rothszki.hu
SUMMARY:Próbaérettségi ágazati szakmai tantárgyból
DESCRIPTION:
URL:https://new.rothszki.hu/index.php/event/probaerettsegi-agazati-szakmai-tantargybol-3/
END:VEVENT
BEGIN:VEVENT
DTSTART;VALUE=DATE:20200323
DTEND;VALUE=DATE:20200328
DTSTAMP:20260424T013439
CREATED:20190911T084648Z
LAST-MODIFIED:20190911T084648Z
UID:5253-1584921600-1585353599@new.rothszki.hu
SUMMARY:Próbaérettségi matematikából
DESCRIPTION:
URL:https://new.rothszki.hu/index.php/event/probaerettsegi-matematikabol-3/
END:VEVENT
BEGIN:VEVENT
DTSTART;VALUE=DATE:20200323
DTEND;VALUE=DATE:20200328
DTSTAMP:20260424T013439
CREATED:20190911T084648Z
LAST-MODIFIED:20190911T084648Z
UID:5254-1584921600-1585353599@new.rothszki.hu
SUMMARY:Évfolyamdolgozat 9. és 10. évfolyamon növénytan tantárgyból
DESCRIPTION:
URL:https://new.rothszki.hu/index.php/event/evfolyamdolgozat-9-es-10-evfolyamon-novenytan-tantargybol-3/
END:VEVENT
BEGIN:VEVENT
DTSTART;VALUE=DATE:20200323
DTEND;VALUE=DATE:20200328
DTSTAMP:20260424T013439
CREATED:20190911T084647Z
LAST-MODIFIED:20190911T084647Z
UID:5252-1584921600-1585353599@new.rothszki.hu
SUMMARY:DIGITÁLIS TÉMAHÉT
DESCRIPTION:
URL:https://new.rothszki.hu/index.php/event/digitalis-temahet-4/
END:VEVENT
BEGIN:VEVENT
DTSTART;VALUE=DATE:20200320
DTEND;VALUE=DATE:20200321
DTSTAMP:20260424T013439
CREATED:20190911T084647Z
LAST-MODIFIED:20190911T084647Z
UID:5251-1584662400-1584748799@new.rothszki.hu
SUMMARY:BISEL-nap: a víz világnapja alkalmából| környész
DESCRIPTION:
URL:https://new.rothszki.hu/index.php/event/bisel-nap-a-viz-vilagnapja-alkalmabol-kornyesz-3/
END:VEVENT
BEGIN:VEVENT
DTSTART;VALUE=DATE:20200319
DTEND;VALUE=DATE:20200321
DTSTAMP:20260424T013439
CREATED:20190911T084647Z
LAST-MODIFIED:20190911T084647Z
UID:5250-1584576000-1584748799@new.rothszki.hu
SUMMARY:Felvételi jelentkezések módosítása az általános iskolánál
DESCRIPTION:
URL:https://new.rothszki.hu/index.php/event/felveteli-jelentkezesek-modositasa-az-altalanos-iskolanal-4/
END:VEVENT
BEGIN:VEVENT
DTSTART;VALUE=DATE:20200316
DTEND;VALUE=DATE:20200321
DTSTAMP:20260424T013439
CREATED:20190911T084647Z
LAST-MODIFIED:20190911T084647Z
UID:5249-1584316800-1584748799@new.rothszki.hu
SUMMARY:Évfolyamdolgozat 9. évfolyamon állattan tantárgyból
DESCRIPTION:
URL:https://new.rothszki.hu/index.php/event/evfolyamdolgozat-9-evfolyamon-allattan-tantargybol-3/
END:VEVENT
BEGIN:VEVENT
DTSTART;VALUE=DATE:20200316
DTEND;VALUE=DATE:20200321
DTSTAMP:20260424T013439
CREATED:20190911T084646Z
LAST-MODIFIED:20190911T084646Z
UID:5248-1584316800-1584748799@new.rothszki.hu
SUMMARY:Próba érettségi történelembõl
DESCRIPTION:
URL:https://new.rothszki.hu/index.php/event/proba-erettsegi-tortenelembol-3/
END:VEVENT
BEGIN:VEVENT
DTSTART;VALUE=DATE:20200313
DTEND;VALUE=DATE:20200314
DTSTAMP:20260424T013439
CREATED:20190911T084646Z
LAST-MODIFIED:20190911T084646Z
UID:5247-1584057600-1584143999@new.rothszki.hu
SUMMARY:Megemlékezés Márc.15-rõl| Eötvös Gimnáziummal közösen (Evangélikus templom 1100 óra| rendezõ Roth)
DESCRIPTION:
URL:https://new.rothszki.hu/index.php/event/megemlekezes-marc-15-rol-eotvos-gimnaziummal-kozosen-evangelikus-templom-1100-ora-rendezo-roth-3/
END:VEVENT
BEGIN:VEVENT
DTSTART;VALUE=DATE:20200310
DTEND;VALUE=DATE:20200311
DTSTAMP:20260424T013439
CREATED:20190911T084645Z
LAST-MODIFIED:20190911T084645Z
UID:5246-1583798400-1583884799@new.rothszki.hu
SUMMARY:Szakmai próba vizsga a 13. évfolyamon
DESCRIPTION:
URL:https://new.rothszki.hu/index.php/event/szakmai-proba-vizsga-a-13-evfolyamon-3/
END:VEVENT
BEGIN:VEVENT
DTSTART;VALUE=DATE:20200309
DTEND;VALUE=DATE:20200314
DTSTAMP:20260424T013439
CREATED:20190911T084645Z
LAST-MODIFIED:20190911T084645Z
UID:5245-1583712000-1584143999@new.rothszki.hu
SUMMARY:Próba érettségi idegen nyelvbõl
DESCRIPTION:
URL:https://new.rothszki.hu/index.php/event/proba-erettsegi-idegen-nyelvbol-3/
END:VEVENT
BEGIN:VEVENT
DTSTART;VALUE=DATE:20200306
DTEND;VALUE=DATE:20200307
DTSTAMP:20260424T013439
CREATED:20190911T084644Z
LAST-MODIFIED:20190911T084644Z
UID:5242-1583452800-1583539199@new.rothszki.hu
SUMMARY:Ideiglenes felvételi jegyzék közzététel
DESCRIPTION:
URL:https://new.rothszki.hu/index.php/event/ideiglenes-felveteli-jegyzek-kozzetetel-4/
END:VEVENT
BEGIN:VEVENT
DTSTART;VALUE=DATE:20200305
DTEND;VALUE=DATE:20200306
DTSTAMP:20260424T013439
CREATED:20190911T084644Z
LAST-MODIFIED:20190911T084644Z
UID:5241-1583366400-1583452799@new.rothszki.hu
SUMMARY:Konferencia nap
DESCRIPTION:
URL:https://new.rothszki.hu/index.php/event/konferencia-nap-4/
END:VEVENT
BEGIN:VEVENT
DTSTART;VALUE=DATE:20200302
DTEND;VALUE=DATE:20200307
DTSTAMP:20260424T013439
CREATED:20190911T084645Z
LAST-MODIFIED:20190911T084645Z
UID:5243-1583107200-1583539199@new.rothszki.hu
SUMMARY:Próba érettségi magyar nyelv és irodalomból
DESCRIPTION:
URL:https://new.rothszki.hu/index.php/event/proba-erettsegi-magyar-nyelv-es-irodalombol-3/
END:VEVENT
BEGIN:VEVENT
DTSTART;VALUE=DATE:20200302
DTEND;VALUE=DATE:20200307
DTSTAMP:20260424T013439
CREATED:20190911T084645Z
LAST-MODIFIED:20190911T084645Z
UID:5244-1583107200-1583539199@new.rothszki.hu
SUMMARY:Évfolyamdolgozat 13. évfolyamon erdõhasználattan tantárgyból
DESCRIPTION:
URL:https://new.rothszki.hu/index.php/event/evfolyamdolgozat-13-evfolyamon-erdohasznalattan-tantargybol-3/
END:VEVENT
BEGIN:VEVENT
DTSTART;VALUE=DATE:20200302
DTEND;VALUE=DATE:20200305
DTSTAMP:20260424T013439
CREATED:20190911T084644Z
LAST-MODIFIED:20190911T084644Z
UID:5240-1583107200-1583366399@new.rothszki.hu
SUMMARY:Felvételi elbeszélgetés – pótló
DESCRIPTION:
URL:https://new.rothszki.hu/index.php/event/felveteli-elbeszelgetes-potlo-4/
END:VEVENT
BEGIN:VEVENT
DTSTART;VALUE=DATE:20200228
DTEND;VALUE=DATE:20200229
DTSTAMP:20260424T013439
CREATED:20190911T084643Z
LAST-MODIFIED:20190911T084643Z
UID:5238-1582848000-1582934399@new.rothszki.hu
SUMMARY:Gyûjtemények beadási határideje – 9.évfolyamon (rügy)| 13. évfolyam (károsító)| 13.esti (rügy)| 14.esti (károsító)
DESCRIPTION:
URL:https://new.rothszki.hu/index.php/event/gyujtemenyek-beadasi-hatarideje-9-evfolyamon-rugy-13-evfolyam-karosito-13-esti-rugy-14-esti-karosito-3/
END:VEVENT
BEGIN:VEVENT
DTSTART;VALUE=DATE:20200228
DTEND;VALUE=DATE:20200229
DTSTAMP:20260424T013439
CREATED:20190911T084643Z
LAST-MODIFIED:20200217T093605Z
UID:5239-1582848000-1582934399@new.rothszki.hu
SUMMARY:Felvételi elbeszélgetés (Rövidített órák)
DESCRIPTION:
URL:https://new.rothszki.hu/index.php/event/felveteli-elbeszelgetes-roviditett-orak-3/
ATTACH;FMTTYPE=image/jpeg:https://new.rothszki.hu/wp-content/uploads/2019/09/preparing_fo_a_school_interview.jpg
END:VEVENT
BEGIN:VEVENT
DTSTART;VALUE=DATE:20200225
DTEND;VALUE=DATE:20200302
DTSTAMP:20260424T013439
CREATED:20190911T084642Z
LAST-MODIFIED:20190911T084642Z
UID:5237-1582588800-1583107199@new.rothszki.hu
SUMMARY:„PÉNZ7” – PÉNZÜGYI ÉS VÁLLALKOZÓI TÉMAHÉT
DESCRIPTION:
URL:https://new.rothszki.hu/index.php/event/penz7-penzugyi-es-vallalkozoi-temahet-4/
END:VEVENT
BEGIN:VEVENT
DTSTART;VALUE=DATE:20200224
DTEND;VALUE=DATE:20200229
DTSTAMP:20260424T013439
CREATED:20190911T084642Z
LAST-MODIFIED:20190911T084642Z
UID:5236-1582502400-1582934399@new.rothszki.hu
SUMMARY:Megemlékezés a kommunista diktatúrák áldozatairól (febr.25.) osztályfõnöki óra
DESCRIPTION:
URL:https://new.rothszki.hu/index.php/event/megemlekezes-a-kommunista-diktaturak-aldozatairol-febr-25-osztalyfonoki-ora-4/
END:VEVENT
BEGIN:VEVENT
DTSTART;VALUE=DATE:20200221
DTEND;VALUE=DATE:20200222
DTSTAMP:20260424T013439
CREATED:20190911T084642Z
LAST-MODIFIED:20190911T084642Z
UID:5235-1582243200-1582329599@new.rothszki.hu
SUMMARY:Gyûjtési feladatok kiadási határideje – 9. évfolyam (leveles hajtás)| 10.évfolyam (lágyszárú)| 11. évfolyam (mag)| 12. évfolyam (csíracsemete| károsító)
DESCRIPTION:
URL:https://new.rothszki.hu/index.php/event/gyujtesi-feladatok-kiadasi-hatarideje-9-evfolyam-leveles-hajtas-10-evfolyam-lagyszaru-11-evfolyam-mag-12-evfolyam-csiracsemete-karosito-3/
END:VEVENT
END:VCALENDAR